BEGIN:VCALENDAR
VERSION:2.0
PRODID:-//wp-events-plugin.com//7.2.3.1//EN
TZID:Europe/Berlin
X-WR-TIMEZONE:Europe/Berlin
BEGIN:VEVENT
UID:94@fklw.de
DTSTART;TZID=Europe/Berlin;VALUE=DATE:20261117
DTEND;TZID=Europe/Berlin;VALUE=DATE:20261118
DTSTAMP:20260118T194309Z
URL:https://fklw.de/events/17-november-2026-sektionstreffen-anmeldung-uebe
 r-die-sektion-noervenich/
SUMMARY:17. November 2026 -  Sektionstreffen - Anmeldung über die Sektion 
 Nörvenich
DESCRIPTION:Anmeldung gerne per E-Mail: noervenich@fklw.de
ATTACH;FMTTYPE=image/jpeg:https://fklw.de/wp-content/uploads/2024/06/6.png
CATEGORIES:Sektion Nörvenich
END:VEVENT
BEGIN:VTIMEZONE
TZID:Europe/Berlin
X-LIC-LOCATION:Europe/Berlin
BEGIN:STANDARD
DTSTART:20261025T020000
TZOFFSETFROM:+0200
TZOFFSETTO:+0100
TZNAME:CET
END:STANDARD
END:VTIMEZONE
END:VCALENDAR