BEGIN:VCALENDAR
VERSION:2.0
PRODID:-//wp-events-plugin.com//7.2.3.1//EN
TZID:Europe/Berlin
X-WR-TIMEZONE:Europe/Berlin
BEGIN:VEVENT
UID:91@fklw.de
DTSTART;TZID=Europe/Berlin;VALUE=DATE:20260818
DTEND;TZID=Europe/Berlin;VALUE=DATE:20260819
DTSTAMP:20260118T194127Z
URL:https://fklw.de/events/18-august-2026-sektionstreffen-grillabend-anmel
 dung-ueber-die-sektion-noervenich/
SUMMARY:18. August 2026 -  Sektionstreffen (Grillabend) - Anmeldung über d
 ie Sektion Nörvenich
DESCRIPTION:Anmeldung gerne per E-Mail: noervenich@fklw.de
ATTACH;FMTTYPE=image/jpeg:https://fklw.de/wp-content/uploads/2024/06/6.png
CATEGORIES:Sektion Nörvenich
END:VEVENT
BEGIN:VTIMEZONE
TZID:Europe/Berlin
X-LIC-LOCATION:Europe/Berlin
BEGIN:DAYLIGHT
DTSTART:20260329T030000
TZOFFSETFROM:+0100
TZOFFSETTO:+0200
TZNAME:CEST
END:DAYLIGHT
END:VTIMEZONE
END:VCALENDAR