BEGIN:VCALENDAR
VERSION:2.0
PRODID:-//wp-events-plugin.com//7.2.3.1//EN
TZID:Europe/Berlin
X-WR-TIMEZONE:Europe/Berlin
BEGIN:VEVENT
UID:85@fklw.de
DTSTART;TZID=Europe/Berlin:20260523T110000
DTEND;TZID=Europe/Berlin:20260523T150000
DTSTAMP:20260107T120453Z
URL:https://fklw.de/events/besuch-des-luftfahrtmuseum-in-laatzen-100-jahre
 -lufthansa-sektion-wunstorf/
SUMMARY:Besuch des Luftfahrtmuseum in Laatzen "100 Jahre Lufthansa" - Sekti
 on Wunstorf
DESCRIPTION:Anmeldungen bitte unter wunstorf@fklw.de
ATTACH;FMTTYPE=image/jpeg:https://fklw.de/wp-content/uploads/2024/06/3.png
CATEGORIES:Sektion Wunstorf
END:VEVENT
BEGIN:VTIMEZONE
TZID:Europe/Berlin
X-LIC-LOCATION:Europe/Berlin
BEGIN:DAYLIGHT
DTSTART:20260329T030000
TZOFFSETFROM:+0100
TZOFFSETTO:+0200
TZNAME:CEST
END:DAYLIGHT
END:VTIMEZONE
END:VCALENDAR